BEGIN:VCALENDAR
VERSION:2.0
PRODID:-//CEAM - ECPv4.6.22//NONSGML v1.0//EN
CALSCALE:GREGORIAN
METHOD:PUBLISH
X-WR-CALNAME:CEAM
X-ORIGINAL-URL:https://www.ceam.org.uy
X-WR-CALDESC:Eventos para CEAM
BEGIN:VEVENT
DTSTART;TZID=UTC-3:20190805T200000
DTEND;TZID=UTC-3:20190805T213000
DTSTAMP:20260424T222418
CREATED:20190712T220204Z
LAST-MODIFIED:20190812T201229Z
UID:3484-1565035200-1565040600@www.ceam.org.uy
SUMMARY:20.00 h :: Ensayo del Coro Arcadia
DESCRIPTION:20.00 h \nEnsayo del Coro Arcadia \nDir. Maestro Gabriel González \nCompartirHaz clic para compartir en Facebook (Se abre en una ventana nueva)Haz clic para compartir en WhatsApp (Se abre en una ventana nueva)\n\n	\n
URL:https://www.ceam.org.uy/evento/20-00-h-ensayo-del-coro-arcadia-26/
CATEGORIES:Otros
END:VEVENT
END:VCALENDAR