BEGIN:VCALENDAR
VERSION:2.0
PRODID:-//CEAM - ECPv4.6.22//NONSGML v1.0//EN
CALSCALE:GREGORIAN
METHOD:PUBLISH
X-WR-CALNAME:CEAM
X-ORIGINAL-URL:https://www.ceam.org.uy
X-WR-CALDESC:Eventos para CEAM
BEGIN:VEVENT
DTSTART;TZID=UTC-3:20191209T200000
DTEND;TZID=UTC-3:20191209T210000
DTSTAMP:20260424T111929
CREATED:20191210T131401Z
LAST-MODIFIED:20191210T131401Z
UID:3908-1575921600-1575925200@www.ceam.org.uy
SUMMARY:20.00 h :: Concierto del Coro Arcadia
DESCRIPTION:20.00 h \nConcierto del Coro Arcadia \nDir. Maestro Gabriel González \nCompartirHaz clic para compartir en Facebook (Se abre en una ventana nueva)Haz clic para compartir en WhatsApp (Se abre en una ventana nueva)\n\n	\n
URL:https://www.ceam.org.uy/evento/20-00-h-concierto-del-coro-arcadia/
CATEGORIES:Conciertos/Conferencias,Otros
END:VEVENT
END:VCALENDAR