BEGIN:VCALENDAR
VERSION:2.0
PRODID:-//CEAM - ECPv4.6.22//NONSGML v1.0//EN
CALSCALE:GREGORIAN
METHOD:PUBLISH
X-WR-CALNAME:CEAM
X-ORIGINAL-URL:https://www.ceam.org.uy
X-WR-CALDESC:Eventos para CEAM
BEGIN:VEVENT
DTSTART;TZID=UTC-3:20200302T190000
DTEND;TZID=UTC-3:20200302T203000
DTSTAMP:20260423T013231
CREATED:20200229T181158Z
LAST-MODIFIED:20200229T224649Z
UID:4045-1583175600-1583181000@www.ceam.org.uy
SUMMARY:19.00 h :: Oración por la Patria
DESCRIPTION:19.00 h ORACION POR LA PATRIA \nCATEDRAL METROPOLITANA con la presencia del Presidente de la República \nVer contactos para anotarse \n \nCompartirHaz clic para compartir en Facebook (Se abre en una ventana nueva)Haz clic para compartir en WhatsApp (Se abre en una ventana nueva)\n\n	\n
URL:https://www.ceam.org.uy/evento/19-99-h-oracion-por-la-patria/
CATEGORIES:CEAM-Varios
END:VEVENT
END:VCALENDAR