BEGIN:VCALENDAR
VERSION:2.0
PRODID:-//CEAM - ECPv4.6.22//NONSGML v1.0//EN
CALSCALE:GREGORIAN
METHOD:PUBLISH
X-WR-CALNAME:CEAM
X-ORIGINAL-URL:https://www.ceam.org.uy
X-WR-CALDESC:Eventos para CEAM
BEGIN:VEVENT
DTSTART;TZID=UTC-3:20200303T190000
DTEND;TZID=UTC-3:20200303T203000
DTSTAMP:20260423T090446
CREATED:20200229T223413Z
LAST-MODIFIED:20200229T223413Z
UID:4074-1583262000-1583267400@www.ceam.org.uy
SUMMARY:19.00 h Reunión de Comisión Directiva de la Confraternidad Judeo-cristiana NCI
DESCRIPTION:19.00 h\nReunión de\nComisión\nDirectiva de la\nConfraternidad\nJudeo-Cristiana\nNCI \nCompartirHaz clic para compartir en Facebook (Se abre en una ventana nueva)Haz clic para compartir en WhatsApp (Se abre en una ventana nueva)\n\n	\n
URL:https://www.ceam.org.uy/evento/19-00-h-reunion-de-comision-directiva-de-la-confraternidad-judeo-cristiana-nci/
CATEGORIES:Otros
END:VEVENT
END:VCALENDAR