BEGIN:VCALENDAR
VERSION:2.0
PRODID:-//CEAM - ECPv4.6.22//NONSGML v1.0//EN
CALSCALE:GREGORIAN
METHOD:PUBLISH
X-WR-CALNAME:CEAM
X-ORIGINAL-URL:https://www.ceam.org.uy
X-WR-CALDESC:Eventos para CEAM
BEGIN:VEVENT
DTSTART;TZID=UTC-3:20200401T190000
DTEND;TZID=UTC-3:20200401T203000
DTSTAMP:20260423T131623
CREATED:20200229T230903Z
LAST-MODIFIED:20200229T230903Z
UID:4111-1585767600-1585773000@www.ceam.org.uy
SUMMARY:19.00 h Reunión de Comisión Directiva de la Confraternidad Judeo-cristiana NCI
DESCRIPTION:19.00 h\nReunión de\nComisión\nDirectiva de la\nConfraternidad\nJudeo-Cristiana\nNCI \nCompartirHaz clic para compartir en Facebook (Se abre en una ventana nueva)Haz clic para compartir en WhatsApp (Se abre en una ventana nueva)\n\n	\n
URL:https://www.ceam.org.uy/evento/19-00-h-reunion-de-comision-directiva-de-la-confraternidad-judeo-cristiana-nci-2/
CATEGORIES:Ecumenismo-Obras Ecuménicas
END:VEVENT
END:VCALENDAR