BEGIN:VCALENDAR
VERSION:2.0
PRODID:-//CEAM - ECPv4.6.22//NONSGML v1.0//EN
CALSCALE:GREGORIAN
METHOD:PUBLISH
X-WR-CALNAME:CEAM
X-ORIGINAL-URL:https://www.ceam.org.uy
X-WR-CALDESC:Eventos para CEAM
BEGIN:VEVENT
DTSTART;TZID=UTC-3:20191212T190000
DTEND;TZID=UTC-3:20191212T210000
DTSTAMP:20260424T094921
CREATED:20191210T131456Z
LAST-MODIFIED:20191210T131456Z
UID:3910-1576177200-1576184400@www.ceam.org.uy
SUMMARY:19.00 h :: Navidad ecuménica en plaza Seregni  CICU-FIEU
DESCRIPTION:19.00 h \nNavidad ecuménica en plaza Seregni \n  \nCICU-FIEU \nCompartirHaz clic para compartir en Facebook (Se abre en una ventana nueva)Haz clic para compartir en WhatsApp (Se abre en una ventana nueva)\n\n	\n
URL:https://www.ceam.org.uy/evento/19-00-h-navidad-ecumenica-en-plaza-seregni-cicu-fieu/
CATEGORIES:Otros
END:VEVENT
END:VCALENDAR