BEGIN:VCALENDAR
VERSION:2.0
PRODID:-//CEAM - ECPv4.6.22//NONSGML v1.0//EN
CALSCALE:GREGORIAN
METHOD:PUBLISH
X-WR-CALNAME:CEAM
X-ORIGINAL-URL:https://www.ceam.org.uy
X-WR-CALDESC:Eventos para CEAM
BEGIN:VEVENT
DTSTART;TZID=UTC-3:20200327T190000
DTEND;TZID=UTC-3:20200327T203000
DTSTAMP:20260423T131625
CREATED:20200229T230045Z
LAST-MODIFIED:20200229T230407Z
UID:4105-1585335600-1585341000@www.ceam.org.uy
SUMMARY:19.00 h FIEU En la iglesia Valdense
DESCRIPTION:19.00 h\nFIEU – Federación de Iglesias Evangélicas del Uruguay\nEn la iglesia Valdense \nCompartirHaz clic para compartir en Facebook (Se abre en una ventana nueva)Haz clic para compartir en WhatsApp (Se abre en una ventana nueva)\n\n	\n
URL:https://www.ceam.org.uy/evento/19-00-h-fieu-en-la-iglesia-valdense/
CATEGORIES:Ecumenismo-Obras Ecuménicas
END:VEVENT
END:VCALENDAR