BEGIN:VCALENDAR
VERSION:2.0
PRODID:-//CEAM - ECPv4.6.22//NONSGML v1.0//EN
CALSCALE:GREGORIAN
METHOD:PUBLISH
X-WR-CALNAME:CEAM
X-ORIGINAL-URL:https://www.ceam.org.uy
X-WR-CALDESC:Eventos para CEAM
BEGIN:VEVENT
DTSTART;TZID=UTC-3:20191010T190000
DTEND;TZID=UTC-3:20191010T203000
DTSTAMP:20260424T144110
CREATED:20190923T130705Z
LAST-MODIFIED:20191007T151509Z
UID:3639-1570734000-1570739400@www.ceam.org.uy
SUMMARY:19.00 h :: Culto Solemne ecuménico 500 años Ulrico Zuinglio
DESCRIPTION: \n19.00. h \nLa Congregación Evangélica Alemana de Montevideo; Deutsche Evangelische Gemeinde Montevideo\, tiene el a grado de invitar al Culto Solemne con motivo del 500 Aniversario de la Reforma de Ulrico Zuinglio (Huldrych Zwingli)  a realizarse el día \njueves 10 de octubre de 2019 a las 19.00 h \nen nuestra Iglesia en la calle Juan Manuel Blanes 1116 esquina Durazno. \nParticiparán de este culto solemne autoridades públicas\, eclesiásticas\, diplomáticos\, miembros de nuestra congregación y de la ecumene y público en general. \nPor razones de organización se solicita confirmar asistencia a ierpmontevideo@gmail.com y concurrir unos minutos antes del comienzo del culto. \nCompartirHaz clic para compartir en Facebook (Se abre en una ventana nueva)Haz clic para compartir en WhatsApp (Se abre en una ventana nueva)\n\n	\n
URL:https://www.ceam.org.uy/evento/19-00-h-culto-ecumenico-500-anos-ulrico-zwinglio/
CATEGORIES:Cultos
END:VEVENT
END:VCALENDAR