BEGIN:VCALENDAR
VERSION:2.0
PRODID:-//CEAM - ECPv4.6.22//NONSGML v1.0//EN
CALSCALE:GREGORIAN
METHOD:PUBLISH
X-WR-CALNAME:CEAM
X-ORIGINAL-URL:https://www.ceam.org.uy
X-WR-CALDESC:Eventos para CEAM
BEGIN:VEVENT
DTSTART;TZID=UTC-3:20190415T080000
DTEND;TZID=UTC-3:20190415T170000
DTSTAMP:20260421T174211
CREATED:20190415T214526Z
LAST-MODIFIED:20190415T214526Z
UID:3214-1555315200-1555347600@www.ceam.org.uy
SUMMARY:19.00 h :: Conferencia Académica Pascua Pesaj
DESCRIPTION:19.00 h \nConferencia Académica PASCUA PESAJ (NCI) Nueva Congregación Israelita \nConferencistas: \nCardenal D.   Sturla \nPastor Dr. J. Granados \nRabino D. Dolinski \nCompartirHaz clic para compartir en Facebook (Se abre en una ventana nueva)Haz clic para compartir en WhatsApp (Se abre en una ventana nueva)\n\n	\n
URL:https://www.ceam.org.uy/evento/19-00-h-conferencia-academica-pascua-pesaj/
END:VEVENT
END:VCALENDAR