BEGIN:VCALENDAR
VERSION:2.0
PRODID:-//CEAM - ECPv4.6.22//NONSGML v1.0//EN
CALSCALE:GREGORIAN
METHOD:PUBLISH
X-WR-CALNAME:CEAM
X-ORIGINAL-URL:https://www.ceam.org.uy
X-WR-CALDESC:Eventos para CEAM
BEGIN:VEVENT
DTSTART;TZID=UTC-3:20190405T190000
DTEND;TZID=UTC-3:20190405T210000
DTSTAMP:20260421T140329
CREATED:20190415T210205Z
LAST-MODIFIED:20190415T210205Z
UID:3189-1554490800-1554498000@www.ceam.org.uy
SUMMARY:19.00 h :: Asamblea del CICU
DESCRIPTION:19.0 h – Asamblea General del CICU – Consejo de Iglesias Cristianas del Uruguay \nCompartirHaz clic para compartir en Facebook (Se abre en una ventana nueva)Haz clic para compartir en WhatsApp (Se abre en una ventana nueva)\n\n	\n
URL:https://www.ceam.org.uy/evento/19-00-h-asamblea-del-cicu/
CATEGORIES:Otros
END:VEVENT
END:VCALENDAR