BEGIN:VCALENDAR
VERSION:2.0
PRODID:-//CEAM - ECPv4.6.22//NONSGML v1.0//EN
CALSCALE:GREGORIAN
METHOD:PUBLISH
X-WR-CALNAME:CEAM
X-ORIGINAL-URL:https://www.ceam.org.uy
X-WR-CALDESC:Eventos para CEAM
BEGIN:VEVENT
DTSTART;TZID=UTC-3:20200306T183000
DTEND;TZID=UTC-3:20200306T203000
DTSTAMP:20260423T050719
CREATED:20200229T223703Z
LAST-MODIFIED:20200229T223703Z
UID:4080-1583519400-1583526600@www.ceam.org.uy
SUMMARY:18.30 h Reunión de jóvenes universitarios
DESCRIPTION:18.30 h\nReunión de jóvenes\nuniversitarios \nCompartirHaz clic para compartir en Facebook (Se abre en una ventana nueva)Haz clic para compartir en WhatsApp (Se abre en una ventana nueva)\n\n	\n
URL:https://www.ceam.org.uy/evento/18-30-h-reunion-de-jovenes-universitarios/
CATEGORIES:Niños-Jóvenes-Confirmandos
END:VEVENT
END:VCALENDAR