BEGIN:VCALENDAR
VERSION:2.0
PRODID:-//CEAM - ECPv4.6.22//NONSGML v1.0//EN
CALSCALE:GREGORIAN
METHOD:PUBLISH
X-WR-CALNAME:CEAM
X-ORIGINAL-URL:https://www.ceam.org.uy
X-WR-CALDESC:Eventos para CEAM
BEGIN:VEVENT
DTSTART;TZID=UTC-3:20200305T183000
DTEND;TZID=UTC-3:20200305T200000
DTSTAMP:20260423T052531
CREATED:20200206T223520Z
LAST-MODIFIED:20200206T223520Z
UID:4020-1583433000-1583438400@www.ceam.org.uy
SUMMARY:18.30 h Reunión de Comisión Directiva de la CEAM
DESCRIPTION:18.30 h \nReunión de Comisión Directiva de la CEAM \nCompartirHaz clic para compartir en Facebook (Se abre en una ventana nueva)Haz clic para compartir en WhatsApp (Se abre en una ventana nueva)\n\n	\n
URL:https://www.ceam.org.uy/evento/18-30-h-reunion-de-comision-directiva-de-la-ceam-2/
CATEGORIES:CEAM-Directiva/Reuniones-Asambleas
END:VEVENT
END:VCALENDAR