BEGIN:VCALENDAR
VERSION:2.0
PRODID:-//CEAM - ECPv4.6.22//NONSGML v1.0//EN
CALSCALE:GREGORIAN
METHOD:PUBLISH
X-WR-CALNAME:CEAM
X-ORIGINAL-URL:https://www.ceam.org.uy
X-WR-CALDESC:Eventos para CEAM
BEGIN:VEVENT
DTSTART;TZID=UTC-3:20191216T183000
DTEND;TZID=UTC-3:20191216T193000
DTSTAMP:20260424T063708
CREATED:20191210T220031Z
LAST-MODIFIED:20191210T220031Z
UID:3918-1576521000-1576524600@www.ceam.org.uy
SUMMARY:18.30 h Celebración ecuménica de Navidad en el hogar de la OCSA
DESCRIPTION:18.30 h \nCelebración ecuménica de Navidad en el hogar de la OCSA \nPastor Dr. Jerónimo Granados\, Padre Bernardo Godbarsen \nCantos Navideños Asociación Coral Alemana – Deutscher Männerchor Montevideo \nCompartirHaz clic para compartir en Facebook (Se abre en una ventana nueva)Haz clic para compartir en WhatsApp (Se abre en una ventana nueva)\n\n	\n
URL:https://www.ceam.org.uy/evento/18-30-h-celebracion-ecumenica-de-navidad-en-el-hogar-de-la-ocsa/
CATEGORIES:Cultos,Ecumenismo-Obras Ecuménicas
END:VEVENT
END:VCALENDAR