BEGIN:VCALENDAR
VERSION:2.0
PRODID:-//CEAM - ECPv4.6.22//NONSGML v1.0//EN
CALSCALE:GREGORIAN
METHOD:PUBLISH
X-WR-CALNAME:CEAM
X-ORIGINAL-URL:https://www.ceam.org.uy
X-WR-CALDESC:Eventos para CEAM
BEGIN:VEVENT
DTSTART;TZID=UTC-3:20200319T193000
DTEND;TZID=UTC-3:20200319T193000
DTSTAMP:20260423T085932
CREATED:20200229T225629Z
LAST-MODIFIED:20200229T230515Z
UID:4096-1584646200-1584646200@www.ceam.org.uy
SUMMARY:18.00 h Reunión directiva FIEU
DESCRIPTION:18.00 h\nReunión\ndirectiva FIEU Federación de Iglesias Evangélicas del Uruguay \nCompartirHaz clic para compartir en Facebook (Se abre en una ventana nueva)Haz clic para compartir en WhatsApp (Se abre en una ventana nueva)\n\n	\n
URL:https://www.ceam.org.uy/evento/18-00-h-reunion-directiva-fieu-3/
CATEGORIES:Ecumenismo-Obras Ecuménicas
END:VEVENT
END:VCALENDAR