BEGIN:VCALENDAR
VERSION:2.0
PRODID:-//CEAM - ECPv4.6.22//NONSGML v1.0//EN
CALSCALE:GREGORIAN
METHOD:PUBLISH
X-WR-CALNAME:CEAM
X-ORIGINAL-URL:https://www.ceam.org.uy
X-WR-CALDESC:Eventos para CEAM
BEGIN:VEVENT
DTSTART;TZID=UTC-3:20200220T180000
DTEND;TZID=UTC-3:20200220T190000
DTSTAMP:20260423T132427
CREATED:20200206T223310Z
LAST-MODIFIED:20200206T223310Z
UID:4014-1582221600-1582225200@www.ceam.org.uy
SUMMARY:18.00 h Reunión directiva FIEU*
DESCRIPTION:18.00 h \nReunión directiva FIEU* \nCompartirHaz clic para compartir en Facebook (Se abre en una ventana nueva)Haz clic para compartir en WhatsApp (Se abre en una ventana nueva)\n\n	\n
URL:https://www.ceam.org.uy/evento/18-00-h-reunion-directiva-fieu-2/
CATEGORIES:Otros
END:VEVENT
END:VCALENDAR