BEGIN:VCALENDAR
VERSION:2.0
PRODID:-//CEAM - ECPv4.6.22//NONSGML v1.0//EN
CALSCALE:GREGORIAN
METHOD:PUBLISH
X-WR-CALNAME:CEAM
X-ORIGINAL-URL:https://www.ceam.org.uy
X-WR-CALDESC:Eventos para CEAM
BEGIN:VEVENT
DTSTART;TZID=UTC-3:20190418T180000
DTEND;TZID=UTC-3:20190418T190000
DTSTAMP:20260421T175017
CREATED:20190311T170928Z
LAST-MODIFIED:20190311T170928Z
UID:3131-1555610400-1555614000@www.ceam.org.uy
SUMMARY:18.00 h Reunión de la FIEU
DESCRIPTION:18.00 h\nReunión de la FIEU – Federación de Iglesias Evangélicas del Uruguay \nCompartirHaz clic para compartir en Facebook (Se abre en una ventana nueva)Haz clic para compartir en WhatsApp (Se abre en una ventana nueva)\n\n	\n
URL:https://www.ceam.org.uy/evento/18-00-h-reunion-de-la-fieu-2/
CATEGORIES:Otros
END:VEVENT
END:VCALENDAR