BEGIN:VCALENDAR
VERSION:2.0
PRODID:-//CEAM - ECPv4.6.22//NONSGML v1.0//EN
CALSCALE:GREGORIAN
METHOD:PUBLISH
X-WR-CALNAME:CEAM
X-ORIGINAL-URL:https://www.ceam.org.uy
X-WR-CALDESC:Eventos para CEAM
BEGIN:VEVENT
DTSTART;TZID=UTC-3:20191107T180000
DTEND;TZID=UTC-3:20191107T200000
DTSTAMP:20260424T130212
CREATED:20191114T003727Z
LAST-MODIFIED:20191114T003727Z
UID:3802-1573149600-1573156800@www.ceam.org.uy
SUMMARY:18.00 h Reunión de Comisión Directiva de la CEAM
DESCRIPTION:18.00 h \nReunión de Comisión Directiva de la CEAM \nCompartirHaz clic para compartir en Facebook (Se abre en una ventana nueva)Haz clic para compartir en WhatsApp (Se abre en una ventana nueva)\n\n	\n
URL:https://www.ceam.org.uy/evento/18-00-h-reunion-de-comision-directiva-de-la-ceam-2/
CATEGORIES:CEAM-Directiva/Reuniones-Asambleas
END:VEVENT
END:VCALENDAR