BEGIN:VCALENDAR
VERSION:2.0
PRODID:-//CEAM - ECPv4.6.22//NONSGML v1.0//EN
CALSCALE:GREGORIAN
METHOD:PUBLISH
X-WR-CALNAME:CEAM
X-ORIGINAL-URL:https://www.ceam.org.uy
X-WR-CALDESC:Eventos para CEAM
BEGIN:VEVENT
DTSTART;TZID=UTC-3:20190828T180000
DTEND;TZID=UTC-3:20190828T190000
DTSTAMP:20260424T202927
CREATED:20190812T202615Z
LAST-MODIFIED:20190826T154439Z
UID:3566-1567015200-1567018800@www.ceam.org.uy
SUMMARY:18.00 h :: Estudio Bíblico “Judas el traidor o el que tenía que venir”
DESCRIPTION:18.00 a 19.00 h\nEstudio Bíblico\n“Judas el traidor o el que tenía que venir” \nPastor Dr. Jerónimo Granados \nCompartirHaz clic para compartir en Facebook (Se abre en una ventana nueva)Haz clic para compartir en WhatsApp (Se abre en una ventana nueva)\n\n	\n
URL:https://www.ceam.org.uy/evento/18-00-h-estudio-biblico-judas-el-traidor-o-el-que-tenia-que-venir/
CATEGORIES:CEAM-Varios
END:VEVENT
END:VCALENDAR