BEGIN:VCALENDAR
VERSION:2.0
PRODID:-//CEAM - ECPv4.6.22//NONSGML v1.0//EN
CALSCALE:GREGORIAN
METHOD:PUBLISH
X-WR-CALNAME:CEAM
X-ORIGINAL-URL:https://www.ceam.org.uy
X-WR-CALDESC:Eventos para CEAM
BEGIN:VEVENT
DTSTART;TZID=UTC-3:20190414T180000
DTEND;TZID=UTC-3:20190414T190000
DTSTAMP:20260421T134456
CREATED:20190331T225405Z
LAST-MODIFIED:20190331T225405Z
UID:3163-1555264800-1555268400@www.ceam.org.uy
SUMMARY:18.00 h :: Culto de Pascua en Punta del Este
DESCRIPTION:18.00 h – Culto de Pascua – bilingüe con Santa Cena \nOficiantes:  Pastor Dr. Jerónimo Granados\,  Pastor Stephan Schaar (Berlin) \nCapilla Stella Maris\, Rincón del Indio\, Neruda y L. da Vinci \nParada 29 Playa Brava – PUNTA DEL ESTE \n \nCompartirHaz clic para compartir en Facebook (Se abre en una ventana nueva)Haz clic para compartir en WhatsApp (Se abre en una ventana nueva)\n\n	\n
URL:https://www.ceam.org.uy/evento/18-00-h-culto-de-pascua-en-punta-del-este/
CATEGORIES:Cultos
END:VEVENT
END:VCALENDAR