BEGIN:VCALENDAR
VERSION:2.0
PRODID:-//CEAM - ECPv4.6.22//NONSGML v1.0//EN
CALSCALE:GREGORIAN
METHOD:PUBLISH
X-WR-CALNAME:CEAM
X-ORIGINAL-URL:https://www.ceam.org.uy
X-WR-CALDESC:Eventos para CEAM
BEGIN:VEVENT
DTSTART;TZID=UTC-3:20190817T180000
DTEND;TZID=UTC-3:20190817T200000
DTSTAMP:20260424T221922
CREATED:20190812T201902Z
LAST-MODIFIED:20190812T202038Z
UID:3553-1566064800-1566072000@www.ceam.org.uy
SUMMARY:18.00 h :: Concierto homenaje a Montserrat Caballé
DESCRIPTION:18.00 h\nConcierto Homenaje a Montserrat Caballé\nSoprano Patricia Curzio\nPiano Ezequiel Larré \nCompartirHaz clic para compartir en Facebook (Se abre en una ventana nueva)Haz clic para compartir en WhatsApp (Se abre en una ventana nueva)\n\n	\n
URL:https://www.ceam.org.uy/evento/18-00-h-concierto-homenaje-a-montserrat-caballe/
CATEGORIES:Conciertos/Conferencias
END:VEVENT
END:VCALENDAR