BEGIN:VCALENDAR
VERSION:2.0
PRODID:-//CEAM - ECPv4.6.22//NONSGML v1.0//EN
CALSCALE:GREGORIAN
METHOD:PUBLISH
X-WR-CALNAME:CEAM
X-ORIGINAL-URL:https://www.ceam.org.uy
X-WR-CALDESC:Eventos para CEAM
BEGIN:VEVENT
DTSTART;TZID=UTC-3:20191006T180000
DTEND;TZID=UTC-3:20191006T193000
DTSTAMP:20260424T151424
CREATED:20190930T233511Z
LAST-MODIFIED:20190930T233818Z
UID:3660-1570384800-1570390200@www.ceam.org.uy
SUMMARY:18.00 h :: CONCIERTO DIA DEL PATRIMONIO - Órgano-Piano-Guitarra
DESCRIPTION: \n18.00 h \nENTRE CUERDAS Y TUBOS \nConcierto Mtro. Ezequiel Larré – órgano y piano \nOscar Redón – Guitarra \nIglesia Evangélica Alemana\, Juan M. Blanes esquina Durazno \nCompartirHaz clic para compartir en Facebook (Se abre en una ventana nueva)Haz clic para compartir en WhatsApp (Se abre en una ventana nueva)\n\n	\n
URL:https://www.ceam.org.uy/evento/18-00-h-concierto-dia-del-patrimonio-organo-piano-guitarra/
CATEGORIES:Conciertos/Conferencias
END:VEVENT
END:VCALENDAR