BEGIN:VCALENDAR
VERSION:2.0
PRODID:-//CEAM - ECPv4.6.22//NONSGML v1.0//EN
CALSCALE:GREGORIAN
METHOD:PUBLISH
X-WR-CALNAME:CEAM
X-ORIGINAL-URL:https://www.ceam.org.uy
X-WR-CALDESC:Eventos para CEAM
BEGIN:VEVENT
DTSTART;TZID=UTC-3:20191222T180000
DTEND;TZID=UTC-3:20191222T193000
DTSTAMP:20260424T015913
CREATED:20191220T172134Z
LAST-MODIFIED:20191220T172134Z
UID:3954-1577037600-1577043000@www.ceam.org.uy
SUMMARY:18.00 h :: CONCIERTO DE NAVIDAD
DESCRIPTION: 22.12.2019 – 18.00 h \nCONCIERTO DE NAVIDAD –  WEIHNACHTSKONZERT \nMiguel Ángel Santa Cruz – órgano \nAlexander Da Silva – arpa paraguaya \nCarolina Mazalewski – violín \n  \n  \nCompartirHaz clic para compartir en Facebook (Se abre en una ventana nueva)Haz clic para compartir en WhatsApp (Se abre en una ventana nueva)\n\n	\n
URL:https://www.ceam.org.uy/evento/18-00-h-concierto-de-navidad/
CATEGORIES:Conciertos/Conferencias
END:VEVENT
END:VCALENDAR