BEGIN:VCALENDAR
VERSION:2.0
PRODID:-//CEAM - ECPv4.6.22//NONSGML v1.0//EN
CALSCALE:GREGORIAN
METHOD:PUBLISH
X-WR-CALNAME:CEAM
X-ORIGINAL-URL:https://www.ceam.org.uy
X-WR-CALDESC:Eventos para CEAM
BEGIN:VEVENT
DTSTART;TZID=UTC-3:20190407T180000
DTEND;TZID=UTC-3:20190407T190000
DTSTAMP:20260421T173604
CREATED:20190415T211046Z
LAST-MODIFIED:20190415T211046Z
UID:3195-1554660000-1554663600@www.ceam.org.uy
SUMMARY:18.00 h :: Concierto Coro Camerata
DESCRIPTION:18.00 h \nConcierto Coro Camerata \nCompartirHaz clic para compartir en Facebook (Se abre en una ventana nueva)Haz clic para compartir en WhatsApp (Se abre en una ventana nueva)\n\n	\n
URL:https://www.ceam.org.uy/evento/18-00-h-concierto-coro-camerata/
CATEGORIES:Conciertos/Conferencias
END:VEVENT
END:VCALENDAR