BEGIN:VCALENDAR
VERSION:2.0
PRODID:-//CEAM - ECPv4.6.22//NONSGML v1.0//EN
CALSCALE:GREGORIAN
METHOD:PUBLISH
X-WR-CALNAME:CEAM
X-ORIGINAL-URL:https://www.ceam.org.uy
X-WR-CALDESC:Eventos para CEAM
BEGIN:VEVENT
DTSTART;TZID=UTC-3:20191208T180000
DTEND;TZID=UTC-3:20191208T190000
DTSTAMP:20260424T124910
CREATED:20191114T010650Z
LAST-MODIFIED:20191124T231138Z
UID:3835-1575828000-1575831600@www.ceam.org.uy
SUMMARY:18.00 h CONCIERTO -2º CONCIERTO DE ADVIENTO - CUARTETO DE CUERDAS
DESCRIPTION: \n18.00 h \n2 ° Concierto de Adviento \nCUARTETO DE CUERDAS «4ta Justa« \n Con músicos de la Sinfónica del SODRE \nFranco Locardi – violín \nJose Valeron – violín \nRodrigo Añón – viola \nIgnacio Añón – violoncello \nCompartirHaz clic para compartir en Facebook (Se abre en una ventana nueva)Haz clic para compartir en WhatsApp (Se abre en una ventana nueva)\n\n	\n
URL:https://www.ceam.org.uy/evento/18-00-h-concierto-2o-concierto-de-adviento-cuarteto-de-cuerdas/
CATEGORIES:Conciertos/Conferencias
END:VEVENT
END:VCALENDAR