BEGIN:VCALENDAR
VERSION:2.0
PRODID:-//CEAM - ECPv4.6.22//NONSGML v1.0//EN
CALSCALE:GREGORIAN
METHOD:PUBLISH
X-WR-CALNAME:CEAM
X-ORIGINAL-URL:https://www.ceam.org.uy
X-WR-CALDESC:Eventos para CEAM
BEGIN:VEVENT
DTSTART;TZID=UTC-3:20190825T170000
DTEND;TZID=UTC-3:20190825T180000
DTSTAMP:20260424T202927
CREATED:20190812T202519Z
LAST-MODIFIED:20190815T230015Z
UID:3564-1566752400-1566756000@www.ceam.org.uy
SUMMARY:17.00 h :: Concierto Festival de Órgano - Dir Cristina García Banegas. Maestro J.C. Huertas - Piano\, U. Schrader - barítono
DESCRIPTION:17.00 h\nConcierto Festival de Órgano – Dir Cristina García Banegas. \nMaestro Julio Cesar Huertas – Piano \nUlrich Schrader – Barítono \nEn homenaje a la Sra. Ilse Kasdorf\, Fundadora de Aldeas Infantiles Uruguay \n  \n  \n  \n  \nPrograma \nCarlos Giucci (1903-1958)                                Atardecer (Texto: Manuel García de la Llera) \nEduardo Fabini (1882-1950)                            Triste nº 4 (Texto: Elías Regules) \nCarlos Pedrell (1878-1941)                              Ocaso (Texto: Rafael Obligado) \nLuis Cluzeau Mortet (1889-1957)                  Rancho solo (Texto: Fernán Silva Valdés) \nJulio César Huertas                                            Abrazo al corazón (Texto: Sylvia Puentes de Oyenard) \nHomenaje a Pablo Neruda \nHomenaje a Guastavino \nLuis Pedro Mondino (1903-1974)                  La fin du jour (Texto: Gervasio Guillot Muñoz) \nJosé Segú (1873-1960)                                     Tristesse (Texto: Alfred de Musset) \nCésar Cortinas (1890-1918)                             Prière à Jésus (Texto del compositor) \nA une étoile (Texto: Alfred de Musset) \nFranz Liszt (1811-1886)                                    Über allen gipfeln ist Ruh (Texto: Johann Wolfgang von  Goethe) \nFanny Mendelssohn (1805-1847)                   Schwanenlied (Texto: Heinrich Heine) \nClara Schumann (1819-1896)                          Ich stand in dunklen Träumen (Texto: Heinrich Heine) \nRobert  Schumann (1810-1856)                     Widmung (Texto: Friedrich Rückert) \nCompartirHaz clic para compartir en Facebook (Se abre en una ventana nueva)Haz clic para compartir en WhatsApp (Se abre en una ventana nueva)\n\n	\n
URL:https://www.ceam.org.uy/evento/17-00-h-concierto-festival-de-organo-dir-cristina-garcia-banegas-maestro-julio-cesar-huertas-piano/
CATEGORIES:Conciertos/Conferencias
END:VEVENT
END:VCALENDAR