BEGIN:VCALENDAR
VERSION:2.0
PRODID:-//CEAM - ECPv4.6.22//NONSGML v1.0//EN
CALSCALE:GREGORIAN
METHOD:PUBLISH
X-WR-CALNAME:CEAM
X-ORIGINAL-URL:https://www.ceam.org.uy
X-WR-CALDESC:Eventos para CEAM
BEGIN:VEVENT
DTSTART;VALUE=DATE:20170817
DTEND;VALUE=DATE:20170818
DTSTAMP:20260422T112503
CREATED:20170802T030558Z
LAST-MODIFIED:20170925T145120Z
UID:1078-1502928000-1503014399@www.ceam.org.uy
SUMMARY:160º Aniversario de la CEAM
DESCRIPTION:160º Aniversario de la Congregación Evangélica Alemana de Montevideo \n1857 – 2017 \nCompartirHaz clic para compartir en Facebook (Se abre en una ventana nueva)Haz clic para compartir en WhatsApp (Se abre en una ventana nueva)\n\n	\n
URL:https://www.ceam.org.uy/evento/160-aniversario-de-la-ceam/
CATEGORIES:Otros
END:VEVENT
END:VCALENDAR