BEGIN:VCALENDAR
VERSION:2.0
PRODID:-//CEAM - ECPv4.6.22//NONSGML v1.0//EN
CALSCALE:GREGORIAN
METHOD:PUBLISH
X-WR-CALNAME:CEAM
X-ORIGINAL-URL:https://www.ceam.org.uy
X-WR-CALDESC:Eventos para CEAM
BEGIN:VEVENT
DTSTART;TZID=UTC-3:20190427T160000
DTEND;TZID=UTC-3:20190427T180000
DTSTAMP:20260421T135101
CREATED:20190415T214910Z
LAST-MODIFIED:20190415T214910Z
UID:3220-1556380800-1556388000@www.ceam.org.uy
SUMMARY:16.00 h :: Clase de Confirmación
DESCRIPTION:16.00 h \nClase de Confirmación\, Juan Manuel Blanes 1116 \nCompartirHaz clic para compartir en Facebook (Se abre en una ventana nueva)Haz clic para compartir en WhatsApp (Se abre en una ventana nueva)\n\n	\n
URL:https://www.ceam.org.uy/evento/16-00-h-clase-de-confirmacion/
CATEGORIES:Niños-Jóvenes-Confirmandos
END:VEVENT
END:VCALENDAR