BEGIN:VCALENDAR
VERSION:2.0
PRODID:-//CEAM - ECPv4.6.22//NONSGML v1.0//EN
CALSCALE:GREGORIAN
METHOD:PUBLISH
X-WR-CALNAME:CEAM
X-ORIGINAL-URL:https://www.ceam.org.uy
X-WR-CALDESC:Eventos para CEAM
BEGIN:VEVENT
DTSTART;TZID=UTC-3:20200306T153000
DTEND;TZID=UTC-3:20200306T180000
DTSTAMP:20260423T012315
CREATED:20200206T223650Z
LAST-MODIFIED:20200229T214025Z
UID:4022-1583508600-1583517600@www.ceam.org.uy
SUMMARY:15.30 h :: Weltgebetstag in deutscher Sprache Día Mundial de la Oración en idioma alemán
DESCRIPTION:15.30 h \nWeltgebetstag in deutscher Sprache \nDía Mundial de la Oración en idioma alemán \nNach dem Gottesdienst treffen wir uns zu einem gemütlichen Beisammensein im Garten der Kirche. Wir bedanken uns im voraus für Spenden von Gebäck und Sandwiches. \n  \n \nCompartirHaz clic para compartir en Facebook (Se abre en una ventana nueva)Haz clic para compartir en WhatsApp (Se abre en una ventana nueva)\n\n	\n
URL:https://www.ceam.org.uy/evento/15-30-h-weltgebetstag-in-deutscher-sprache-dia-mundial-de-la-oracion-en-idioma-aleman/
CATEGORIES:Cultos,Ecumenismo-Obras Ecuménicas
END:VEVENT
END:VCALENDAR