BEGIN:VCALENDAR
VERSION:2.0
PRODID:-//CEAM - ECPv4.6.22//NONSGML v1.0//EN
CALSCALE:GREGORIAN
METHOD:PUBLISH
X-WR-CALNAME:CEAM
X-ORIGINAL-URL:https://www.ceam.org.uy
X-WR-CALDESC:Eventos para CEAM
BEGIN:VEVENT
DTSTART;TZID=UTC-3:20190314T153000
DTEND;TZID=UTC-3:20190314T180000
DTSTAMP:20260421T024525
CREATED:20190311T161123Z
LAST-MODIFIED:20190311T161428Z
UID:3071-1552577400-1552586400@www.ceam.org.uy
SUMMARY:15.30 h Reunión del Grupo de Señoras :: Frauenkreis
DESCRIPTION:15.30 h :: Reunión del Grupo de Señoras / Frauenkreis \nManualidades\, Charlas del Pastor\, juegos\, merienda compartida \nHandarbeiten\, Vorträge des Pastors\, Spiele\, Kaffeetrinken \nCompartirHaz clic para compartir en Facebook (Se abre en una ventana nueva)Haz clic para compartir en WhatsApp (Se abre en una ventana nueva)\n\n	\n
URL:https://www.ceam.org.uy/evento/15-30-h-reunion-del-grupo-de-senoras-frauenkreis-7/
CATEGORIES:CEAM-Varios
END:VEVENT
END:VCALENDAR