BEGIN:VCALENDAR
VERSION:2.0
PRODID:-//CEAM - ECPv4.6.22//NONSGML v1.0//EN
CALSCALE:GREGORIAN
METHOD:PUBLISH
X-WR-CALNAME:CEAM
X-ORIGINAL-URL:https://www.ceam.org.uy
X-WR-CALDESC:Eventos para CEAM
BEGIN:VEVENT
DTSTART;TZID=UTC-3:20190411T080000
DTEND;TZID=UTC-3:20190411T170000
DTSTAMP:20260421T175238
CREATED:20190311T155815Z
LAST-MODIFIED:20190311T160043Z
UID:3059-1554969600-1555002000@www.ceam.org.uy
SUMMARY:15.30 h Reunión del Grupo de Señoras :: Frauenkreis
DESCRIPTION:15.30 h :: Reunión del Grupo de Señoras / Frauenkreis \nManualidades\, Charlas del Pastor\, juegos\, merienda compartida \nHandarbeiten\, Vorträge des Pastors\, Spiele\, Kaffeetrinken \nCompartirHaz clic para compartir en Facebook (Se abre en una ventana nueva)Haz clic para compartir en WhatsApp (Se abre en una ventana nueva)\n\n	\n
URL:https://www.ceam.org.uy/evento/15-30-h-reunion-del-grupo-de-senoras-frauenkreis-6/
CATEGORIES:CEAM-Varios
END:VEVENT
END:VCALENDAR