BEGIN:VCALENDAR
VERSION:2.0
PRODID:-//CEAM - ECPv4.6.22//NONSGML v1.0//EN
CALSCALE:GREGORIAN
METHOD:PUBLISH
X-WR-CALNAME:CEAM
X-ORIGINAL-URL:https://www.ceam.org.uy
X-WR-CALDESC:Eventos para CEAM
BEGIN:VEVENT
DTSTART;TZID=UTC-3:20191003T153000
DTEND;TZID=UTC-3:20191003T180000
DTSTAMP:20260424T131353
CREATED:20190923T125457Z
LAST-MODIFIED:20190923T125457Z
UID:3622-1570116600-1570125600@www.ceam.org.uy
SUMMARY:15.30 h :: Reunión del grupo de señoras - Frauenkreis
DESCRIPTION:15.30 h \nReunión del Grupo de Señoras  –  Frauenkreis \nManualidades a beneficio de la Congregación\, Charlas del Pastor\, juegos\, cantos\, merienda compartida \nHandarbeiten zugunsten der Gemeinde\, Vorträge des Pastors\, Spiele\, Singen\, Kaffeetrinken \nCompartirHaz clic para compartir en Facebook (Se abre en una ventana nueva)Haz clic para compartir en WhatsApp (Se abre en una ventana nueva)\n\n	\n
URL:https://www.ceam.org.uy/evento/15-30-h-reunion-del-grupo-de-senoras-frauenkreis-21/
CATEGORIES:CEAM-Varios
END:VEVENT
END:VCALENDAR