BEGIN:VCALENDAR
VERSION:2.0
PRODID:-//CEAM - ECPv4.6.22//NONSGML v1.0//EN
CALSCALE:GREGORIAN
METHOD:PUBLISH
X-WR-CALNAME:CEAM
X-ORIGINAL-URL:https://www.ceam.org.uy
X-WR-CALDESC:Eventos para CEAM
BEGIN:VEVENT
DTSTART;TZID=UTC-3:20200312T153000
DTEND;TZID=UTC-3:20200312T180000
DTSTAMP:20260423T051132
CREATED:20200229T224847Z
LAST-MODIFIED:20200229T225153Z
UID:4087-1584027000-1584036000@www.ceam.org.uy
SUMMARY:15.30 h Reunión del grupo de señoras\, Frauengruppe
DESCRIPTION:15.30 h \nReunión del Grupo de Señoras  –  Frauenkreis \nManualidades a beneficio de la Congregación\, Charlas del Pastor\, juegos\, cantos\, merienda compartida\, preparación del Día Mundial de la Oración en marzo \nHandarbeiten zugunsten der Gemeinde\, Vorträge des Pastors\, Spiele\, Singen\, Kaffeetrinken\, Vorbereitungen für den Weltgebetstag im März \n  \n  \nCompartirHaz clic para compartir en Facebook (Se abre en una ventana nueva)Haz clic para compartir en WhatsApp (Se abre en una ventana nueva)\n\n	\n
URL:https://www.ceam.org.uy/evento/15-30-h-reunion-del-grupo-de-senoras-frauengruppe/
CATEGORIES:CEAM-Varios
END:VEVENT
END:VCALENDAR