BEGIN:VCALENDAR
VERSION:2.0
PRODID:-//CEAM - ECPv4.6.22//NONSGML v1.0//EN
CALSCALE:GREGORIAN
METHOD:PUBLISH
X-WR-CALNAME:CEAM
X-ORIGINAL-URL:https://www.ceam.org.uy
X-WR-CALDESC:Eventos para CEAM
BEGIN:VEVENT
DTSTART;TZID=UTC-3:20190822T153000
DTEND;TZID=UTC-3:20190822T180000
DTSTAMP:20260424T205007
CREATED:20190812T201007Z
LAST-MODIFIED:20190812T201007Z
UID:3534-1566487800-1566496800@www.ceam.org.uy
SUMMARY:15.30 h :: Grupo de Señoras - Frauenkreis
DESCRIPTION:15.30 h :: Reunión del Grupo de Señoras / Frauenkreis \nManualidades a beneficio de la Congregación\, Charlas del Pastor\, juegos\, cantos\, merienda compartida \nHandarbeiten zugunsten der Gemeinde\, Vorträge des Pastors\, Spiele\, Singen\, Kaffeetrinken \nCompartirHaz clic para compartir en Facebook (Se abre en una ventana nueva)Haz clic para compartir en WhatsApp (Se abre en una ventana nueva)\n\n	\n
URL:https://www.ceam.org.uy/evento/15-30-h-grupo-de-senoras-frauenkreis-5/
CATEGORIES:CEAM-Varios
END:VEVENT
END:VCALENDAR