BEGIN:VCALENDAR
VERSION:2.0
PRODID:-//CEAM - ECPv4.6.22//NONSGML v1.0//EN
CALSCALE:GREGORIAN
METHOD:PUBLISH
X-WR-CALNAME:CEAM
X-ORIGINAL-URL:https://www.ceam.org.uy
X-WR-CALDESC:Eventos para CEAM
BEGIN:VEVENT
DTSTART;TZID=UTC-3:20191117T120000
DTEND;TZID=UTC-3:20191117T160000
DTSTAMP:20260424T195739
CREATED:20191114T004440Z
LAST-MODIFIED:20191114T004440Z
UID:3815-1573992000-1574006400@www.ceam.org.uy
SUMMARY:12.00 h Fiesta del Hogar Amanecer
DESCRIPTION:12.00 -16.00 h \nFIESTA HOGAR AMANECER \nSale un bus a las 12 desde la puerta de la Iglesia \n  \nLlevar plato y cubiertos \nCompartirHaz clic para compartir en Facebook (Se abre en una ventana nueva)Haz clic para compartir en WhatsApp (Se abre en una ventana nueva)\n\n	\n
URL:https://www.ceam.org.uy/evento/12-00-h-fiesta-del-hogar-amanecer/
CATEGORIES:Ecumenismo-Obras Ecuménicas
END:VEVENT
END:VCALENDAR