BEGIN:VCALENDAR
VERSION:2.0
PRODID:-//CEAM - ECPv4.6.22//NONSGML v1.0//EN
CALSCALE:GREGORIAN
METHOD:PUBLISH
X-WR-CALNAME:CEAM
X-ORIGINAL-URL:https://www.ceam.org.uy
X-WR-CALDESC:Eventos para CEAM
BEGIN:VEVENT
DTSTART;TZID=UTC-3:20200301T110000
DTEND;TZID=UTC-3:20200301T120000
DTSTAMP:20260423T051738
CREATED:20200206T223435Z
LAST-MODIFIED:20200229T212603Z
UID:4018-1583060400-1583064000@www.ceam.org.uy
SUMMARY:11.00 h :: Gottesdienst in deutscher Sprache mit Hlg. Abendmahl Pastor Dr. Jerónimo Granados Culto en alemán con Santa Cena
DESCRIPTION: \n11.00 h \nGottesdienst in deutscher Sprache mit Hlg. Abendmahl \nPastor Dr. Jerónimo Granados \nCulto en alemán con Santa Cena \nCompartirHaz clic para compartir en Facebook (Se abre en una ventana nueva)Haz clic para compartir en WhatsApp (Se abre en una ventana nueva)\n\n	\n
URL:https://www.ceam.org.uy/evento/11-00-h-gottesdienst-in-deutscher-sprache-mit-hlg-abendmahl-pastor-dr-jeronimo-granados-culto-en-aleman-con-santa-cena/
CATEGORIES:Cultos
END:VEVENT
END:VCALENDAR