BEGIN:VCALENDAR
VERSION:2.0
PRODID:-//CEAM - ECPv4.6.22//NONSGML v1.0//EN
CALSCALE:GREGORIAN
METHOD:PUBLISH
X-WR-CALNAME:CEAM
X-ORIGINAL-URL:https://www.ceam.org.uy
X-WR-CALDESC:Eventos para CEAM
BEGIN:VEVENT
DTSTART;TZID=UTC-3:20190804T110000
DTEND;TZID=UTC-3:20190804T120000
DTSTAMP:20260425T000355
CREATED:20190714T031745Z
LAST-MODIFIED:20190714T031745Z
UID:3503-1564916400-1564920000@www.ceam.org.uy
SUMMARY:11.00 h Gottesdienst in deutscher Sprache mit Hlg. Abendmahl /  Culto en idioma alemán con Santa Cena
DESCRIPTION:11.00 h \nGottesdienst in deutscher Sprache mit Hlg. Abendmahl \nPastor Dr. J. Granados \n  \nCulto en idioma alemán con Santa Cena \nCompartirHaz clic para compartir en Facebook (Se abre en una ventana nueva)Haz clic para compartir en WhatsApp (Se abre en una ventana nueva)\n\n	\n
URL:https://www.ceam.org.uy/evento/11-00-h-gottesdienst-in-deutscher-sprache-mit-hlg-abendmahl-culto-en-idioma-aleman-con-santa-cena/
CATEGORIES:Cultos
END:VEVENT
END:VCALENDAR