BEGIN:VCALENDAR
VERSION:2.0
PRODID:-//CEAM - ECPv4.6.22//NONSGML v1.0//EN
CALSCALE:GREGORIAN
METHOD:PUBLISH
X-WR-CALNAME:CEAM
X-ORIGINAL-URL:https://www.ceam.org.uy
X-WR-CALDESC:Eventos para CEAM
BEGIN:VEVENT
DTSTART;TZID=UTC-3:20191103T110000
DTEND;TZID=UTC-3:20191103T120000
DTSTAMP:20260424T181147
CREATED:20191002T205238Z
LAST-MODIFIED:20191021T230122Z
UID:3696-1572778800-1572782400@www.ceam.org.uy
SUMMARY:11.00 h :: Culto bilingüe con Santa Cena / Zweisprachiger Gottesdienst mit Hlg. Abendmahl
DESCRIPTION:11.00 h \nCulto bilingüe con Santa Cena \nZweisprachiger Gottesdienst mit Hlg. Abendmahl \nPastor Dr. Jerónimo Granados \na cont. ASAMBLEA GENERAL ORDINARIA \nanschl. ORDENTLICHE GENERALVERSAMMLUNG \nCompartirHaz clic para compartir en Facebook (Se abre en una ventana nueva)Haz clic para compartir en WhatsApp (Se abre en una ventana nueva)\n\n	\n
URL:https://www.ceam.org.uy/evento/11-00-h-gottesdienst-in-deutscher-sprache-mit-hlg-abendmahl-culto-en-idioma-aleman-con-santa-cena-2/
CATEGORIES:Cultos
END:VEVENT
END:VCALENDAR