BEGIN:VCALENDAR
VERSION:2.0
PRODID:-//CEAM - ECPv4.6.22//NONSGML v1.0//EN
CALSCALE:GREGORIAN
METHOD:PUBLISH
X-WR-CALNAME:CEAM
X-ORIGINAL-URL:https://www.ceam.org.uy
X-WR-CALDESC:Eventos para CEAM
BEGIN:VEVENT
DTSTART;TZID=UTC-3:20190901T110000
DTEND;TZID=UTC-3:20190901T120000
DTSTAMP:20260424T171002
CREATED:20190812T202811Z
LAST-MODIFIED:20190812T202811Z
UID:3569-1567335600-1567339200@www.ceam.org.uy
SUMMARY:11.00 h :: Gottesdienst in deutscher Sprache mit Hlg. Abendmahl - Culto en  alemán con Santa Cena
DESCRIPTION:11.00 h\nGottesdienst in deutscher Sprache mit Hlg. Abendmahl\nPastor Dr. J. Granados\nCulto en idioma alemán con Santa Cena \nCompartirHaz clic para compartir en Facebook (Se abre en una ventana nueva)Haz clic para compartir en WhatsApp (Se abre en una ventana nueva)\n\n	\n
URL:https://www.ceam.org.uy/evento/11-00-h-gottesdienst-in-deutscher-sprache-mit-hlg-abendmahl-culto-en-aleman-con-santa-cena-3/
CATEGORIES:Cultos
END:VEVENT
END:VCALENDAR