BEGIN:VCALENDAR
VERSION:2.0
PRODID:-//CEAM - ECPv4.6.22//NONSGML v1.0//EN
CALSCALE:GREGORIAN
METHOD:PUBLISH
X-WR-CALNAME:CEAM
X-ORIGINAL-URL:https://www.ceam.org.uy
X-WR-CALDESC:Eventos para CEAM
BEGIN:VEVENT
DTSTART;TZID=UTC-3:20191201T110000
DTEND;TZID=UTC-3:20191201T120000
DTSTAMP:20260424T162611
CREATED:20191114T005143Z
LAST-MODIFIED:20191114T005143Z
UID:3821-1575198000-1575201600@www.ceam.org.uy
SUMMARY:11.00 h Gottesdienst in deutscher Sprache - culto en alemán
DESCRIPTION:11.00 h \nGottesdienst in deutscher Sprache mit Hlg. Abendmahl \nPastor Dr. Jerónimo Granados \n  \nCulto en idioma alemán con Santa Cena \nCompartirHaz clic para compartir en Facebook (Se abre en una ventana nueva)Haz clic para compartir en WhatsApp (Se abre en una ventana nueva)\n\n	\n
URL:https://www.ceam.org.uy/evento/11-00-h-gottesdienst-in-deutscher-sprache-culto-en-aleman/
CATEGORIES:Cultos
END:VEVENT
END:VCALENDAR