BEGIN:VCALENDAR
VERSION:2.0
PRODID:-//CEAM - ECPv4.6.22//NONSGML v1.0//EN
CALSCALE:GREGORIAN
METHOD:PUBLISH
X-WR-CALNAME:CEAM
X-ORIGINAL-URL:https://www.ceam.org.uy
X-WR-CALDESC:Eventos para CEAM
BEGIN:VEVENT
DTSTART;TZID=UTC-3:20200223T110000
DTEND;TZID=UTC-3:20200223T120000
DTSTAMP:20260423T090321
CREATED:20200206T223357Z
LAST-MODIFIED:20200222T155451Z
UID:4016-1582455600-1582459200@www.ceam.org.uy
SUMMARY:11.00 h Culto en español  Pastor Dr. Jerónimo Granados Gottesdienst in spanischer Sprache
DESCRIPTION:11.00 h \nCulto en español \n  \nPastor Dr. Jerónimo Granados \nGottesdienst in spanischer Sprache  \nCompartirHaz clic para compartir en Facebook (Se abre en una ventana nueva)Haz clic para compartir en WhatsApp (Se abre en una ventana nueva)\n\n	\n
URL:https://www.ceam.org.uy/evento/11-00-h-culto-en-espanol-pastor-dr-jeronimo-granados-gottesdienst-in-spanischer-sprache/
CATEGORIES:Cultos
END:VEVENT
END:VCALENDAR