BEGIN:VCALENDAR
VERSION:2.0
PRODID:-//CEAM - ECPv4.6.22//NONSGML v1.0//EN
CALSCALE:GREGORIAN
METHOD:PUBLISH
X-WR-CALNAME:CEAM
X-ORIGINAL-URL:https://www.ceam.org.uy
X-WR-CALDESC:Eventos para CEAM
BEGIN:VEVENT
DTSTART;TZID=UTC-3:20190915T110000
DTEND;TZID=UTC-3:20190915T120000
DTSTAMP:20260424T144658
CREATED:20190923T125628Z
LAST-MODIFIED:20190923T125628Z
UID:3624-1568545200-1568548800@www.ceam.org.uy
SUMMARY:11.00 h :: Culto en español con Santa Cena-Gottesdienst in spanischer Sprache mit Hlg. Abendmahl
DESCRIPTION:11.00 h \nCulto en español con Santa Cena \nPastor Dr. Jerónimo Granados \n  \nGottesdienst in spanischer Sprache mit Hlg. Abendmahl \nCompartirHaz clic para compartir en Facebook (Se abre en una ventana nueva)Haz clic para compartir en WhatsApp (Se abre en una ventana nueva)\n\n	\n
URL:https://www.ceam.org.uy/evento/11-00-h-culto-en-espanol-con-santa-cena-gottesdienst-in-spanischer-sprache-mit-hlg-abendmahl-2/
CATEGORIES:Cultos
END:VEVENT
END:VCALENDAR