BEGIN:VCALENDAR
VERSION:2.0
PRODID:-//CEAM - ECPv4.6.22//NONSGML v1.0//EN
CALSCALE:GREGORIAN
METHOD:PUBLISH
X-WR-CALNAME:CEAM
X-ORIGINAL-URL:https://www.ceam.org.uy
X-WR-CALDESC:Eventos para CEAM
BEGIN:VEVENT
DTSTART;TZID=UTC-3:20200308T110000
DTEND;TZID=UTC-3:20200308T120000
DTSTAMP:20260422T212310
CREATED:20200206T223743Z
LAST-MODIFIED:20200206T223743Z
UID:4024-1583665200-1583668800@www.ceam.org.uy
SUMMARY:11.00 h CULTO en español con Escuelita Dominical Pastor Dr. Jerónimo Granados Gottesdienst in spanischer Sprache mit Kindergottesdienst
DESCRIPTION:11.00 h \nCULTO en español con Escuelita Dominical \nPastor Dr. Jerónimo Granados \nGottesdienst in spanischer Sprache mit Kindergottesdienst \nCompartirHaz clic para compartir en Facebook (Se abre en una ventana nueva)Haz clic para compartir en WhatsApp (Se abre en una ventana nueva)\n\n	\n
URL:https://www.ceam.org.uy/evento/11-00-h-culto-en-espanol-con-escuelita-dominical-pastor-dr-jeronimo-granados-gottesdienst-in-spanischer-sprache-mit-kindergottesdienst/
CATEGORIES:Cultos
END:VEVENT
END:VCALENDAR