BEGIN:VCALENDAR
VERSION:2.0
PRODID:-//CEAM - ECPv4.6.22//NONSGML v1.0//EN
CALSCALE:GREGORIAN
METHOD:PUBLISH
X-WR-CALNAME:CEAM
X-ORIGINAL-URL:https://www.ceam.org.uy
X-WR-CALDESC:Eventos para CEAM
BEGIN:VEVENT
DTSTART;TZID=UTC-3:20200216T110000
DTEND;TZID=UTC-3:20200216T120000
DTSTAMP:20260423T172325
CREATED:20200206T223220Z
LAST-MODIFIED:20200222T155615Z
UID:4012-1581850800-1581854400@www.ceam.org.uy
SUMMARY:11.00 h :: Culto en castellano con Santa Cena
DESCRIPTION:11.00 h \nCulto en español con Santa Cena \n  \nPastor Dr. Jerónimo Granados \nGottesdienst in spanischer Sprache mit Hlg. Abendmahl  \nCompartirHaz clic para compartir en Facebook (Se abre en una ventana nueva)Haz clic para compartir en WhatsApp (Se abre en una ventana nueva)\n\n	\n
URL:https://www.ceam.org.uy/evento/11-00-h-culto-en-castellano-con-santa-cena-2/
CATEGORIES:Cultos
END:VEVENT
END:VCALENDAR