BEGIN:VCALENDAR
VERSION:2.0
PRODID:-//CEAM - ECPv4.6.22//NONSGML v1.0//EN
CALSCALE:GREGORIAN
METHOD:PUBLISH
X-WR-CALNAME:CEAM
X-ORIGINAL-URL:https://www.ceam.org.uy
X-WR-CALDESC:Eventos para CEAM
BEGIN:VEVENT
DTSTART;TZID=UTC-3:20190421T110000
DTEND;TZID=UTC-3:20190421T123000
DTSTAMP:20260421T130129
CREATED:20190311T173710Z
LAST-MODIFIED:20190415T221151Z
UID:3147-1555844400-1555849800@www.ceam.org.uy
SUMMARY:11.00 h :: Culto coral de Pascuas con Santa Cena\, Taller para niños y sorpresas / Oster-Choralgottesdienst m.Hlg.Abendmahl\, Osternbasteln und Überraschungen f.Kinder
DESCRIPTION:11.00 h \nCulto Coral de Pascua en español con Santa Cena  –  Pastor Dr. J. Granados \n“Exultate\, Jubilate” de Wolfgang Amadeus Mozart \nMaestra Cristina García Banegas\,  Sofía Rauss (soprano) \nLiturgia e Himnos Maestro Ezequiel Larré \n  \nOster-Choral-Gottesdienst in spanischer Sprache mit Hlg. Abendmahl \n  \nTaller de Pascua con los niños \nLos niños buscarán golosinas y huevitos en el patio de la iglesia!!!!!!! \nOstereiersuchen für unsere Kleinen. \nCompartirHaz clic para compartir en Facebook (Se abre en una ventana nueva)Haz clic para compartir en WhatsApp (Se abre en una ventana nueva)\n\n	\n
URL:https://www.ceam.org.uy/evento/11-00-h-culto-de-pascuas-ostergottesdienst/
CATEGORIES:Conciertos/Conferencias,Cultos,Niños-Jóvenes-Confirmandos
END:VEVENT
END:VCALENDAR