BEGIN:VCALENDAR
VERSION:2.0
PRODID:-//CEAM - ECPv4.6.22//NONSGML v1.0//EN
CALSCALE:GREGORIAN
METHOD:PUBLISH
X-WR-CALNAME:CEAM
X-ORIGINAL-URL:https://www.ceam.org.uy
X-WR-CALDESC:Eventos para CEAM
BEGIN:VEVENT
DTSTART;TZID=UTC-3:20190721T110000
DTEND;TZID=UTC-3:20190721T130000
DTSTAMP:20260425T014107
CREATED:20190712T220541Z
LAST-MODIFIED:20190715T194656Z
UID:3488-1563706800-1563714000@www.ceam.org.uy
SUMMARY:11.00 h  Culto Concierto de acción de Gracias - Musikalischer Erntedankgottesdienst in spanischer Sprache
DESCRIPTION: \n  \n11.00 h \nCulto Concierto de acción de Gracias por la cosecha en español con Santa Cena \nPastor Dr. J. Granados \n  \nMusikalischer Erntedankgottesdienst in spanischer Sprache mit Hlg. Abendmahl \nVisita de miembros de la Confraternidad Judeo Cristiana y almuerzo comunitario \nCompartirHaz clic para compartir en Facebook (Se abre en una ventana nueva)Haz clic para compartir en WhatsApp (Se abre en una ventana nueva)\n\n	\n
URL:https://www.ceam.org.uy/evento/11-00-h-culto-de-accion-de-gracias-erntedankgottesdienst-in-spanischer-sprache/
CATEGORIES:Conciertos/Conferencias,Cultos
END:VEVENT
END:VCALENDAR