BEGIN:VCALENDAR
VERSION:2.0
PRODID:-//CEAM - ECPv4.6.22//NONSGML v1.0//EN
CALSCALE:GREGORIAN
METHOD:PUBLISH
X-WR-CALNAME:CEAM
X-ORIGINAL-URL:https://www.ceam.org.uy
X-WR-CALDESC:Eventos para CEAM
BEGIN:VEVENT
DTSTART;TZID=UTC-3:20190428T110000
DTEND;TZID=UTC-3:20190428T120000
DTSTAMP:20260421T174946
CREATED:20190415T215053Z
LAST-MODIFIED:20190415T215123Z
UID:3222-1556449200-1556452800@www.ceam.org.uy
SUMMARY:11.00 h :: Culto bilingüe
DESCRIPTION:11.00 h -Culto bilingüe\, Pastor Dr. J. Granados\, música Mtro. Ezequiel Larré \nZweisprachiger Gottesdienst \nCompartirHaz clic para compartir en Facebook (Se abre en una ventana nueva)Haz clic para compartir en WhatsApp (Se abre en una ventana nueva)\n\n	\n
URL:https://www.ceam.org.uy/evento/11-00-h-culto-bilingue/
CATEGORIES:Cultos
END:VEVENT
END:VCALENDAR