BEGIN:VCALENDAR
VERSION:2.0
PRODID:-//CEAM - ECPv4.6.22//NONSGML v1.0//EN
CALSCALE:GREGORIAN
METHOD:PUBLISH
X-WR-CALNAME:CEAM
X-ORIGINAL-URL:https://www.ceam.org.uy
X-WR-CALDESC:Eventos para CEAM
BEGIN:VEVENT
DTSTART;VALUE=DATE:20190923
DTEND;VALUE=DATE:20190924
DTSTAMP:20260424T095346
CREATED:20190923T130100Z
LAST-MODIFIED:20190923T130100Z
UID:3632-1569196800-1569283199@www.ceam.org.uy
SUMMARY:10.00. h :: Reunión de la comisión del DMO en  Nueva Helvecia
DESCRIPTION:10.00. h \nReunión de la comisión del DMO  (Día Mundial de Oración) en Nueva Helvecia \nCompartirHaz clic para compartir en Facebook (Se abre en una ventana nueva)Haz clic para compartir en WhatsApp (Se abre en una ventana nueva)\n\n	\n
URL:https://www.ceam.org.uy/evento/10-00-h-reunion-de-la-comision-del-dmo-en-nueva-helvecia/
CATEGORIES:CEAM-Varios
END:VEVENT
END:VCALENDAR