BEGIN:VCALENDAR
VERSION:2.0
PRODID:-//CEAM - ECPv4.6.22//NONSGML v1.0//EN
CALSCALE:GREGORIAN
METHOD:PUBLISH
X-WR-CALNAME:CEAM
X-ORIGINAL-URL:https://www.ceam.org.uy
X-WR-CALDESC:Eventos para CEAM
BEGIN:VEVENT
DTSTART;TZID=UTC-3:20190802T093000
DTEND;TZID=UTC-3:20190802T110000
DTSTAMP:20260425T020058
CREATED:20190714T031629Z
LAST-MODIFIED:20190714T031629Z
UID:3501-1564738200-1564743600@www.ceam.org.uy
SUMMARY:09.30 h Reunión de Directiva del CICU
DESCRIPTION:09.30 h \nReunión de Directiva del CICU (Consejo de Iglesias Cristianas del Uruguay) \nCompartirHaz clic para compartir en Facebook (Se abre en una ventana nueva)Haz clic para compartir en WhatsApp (Se abre en una ventana nueva)\n\n	\n
URL:https://www.ceam.org.uy/evento/09-30-h-reunion-de-directiva-del-cicu-2/
CATEGORIES:Otros
END:VEVENT
END:VCALENDAR