BEGIN:VCALENDAR
VERSION:2.0
PRODID:-//CEAM - ECPv4.6.22//NONSGML v1.0//EN
CALSCALE:GREGORIAN
METHOD:PUBLISH
X-WR-CALNAME:CEAM
X-ORIGINAL-URL:https://www.ceam.org.uy
X-WR-CALDESC:Eventos para CEAM
BEGIN:VEVENT
DTSTART;TZID=UTC-3:20191206T090000
DTEND;TZID=UTC-3:20191206T103000
DTSTAMP:20260424T131043
CREATED:20191210T131234Z
LAST-MODIFIED:20191210T131234Z
UID:3906-1575622800-1575628200@www.ceam.org.uy
SUMMARY:09.00 h :: Reunión directiva CICU
DESCRIPTION:09.00 h \nReunión directiva CICU \nConsejo de Iglesias Cristianas del Uruguay \nCompartirHaz clic para compartir en Facebook (Se abre en una ventana nueva)Haz clic para compartir en WhatsApp (Se abre en una ventana nueva)\n\n	\n
URL:https://www.ceam.org.uy/evento/09-00-h-reunion-directiva-cicu/
CATEGORIES:Otros
END:VEVENT
END:VCALENDAR