BEGIN:VCALENDAR
VERSION:2.0
PRODID:-//CEAM - ECPv4.6.22//NONSGML v1.0//EN
CALSCALE:GREGORIAN
METHOD:PUBLISH
X-WR-CALNAME:CEAM
X-ORIGINAL-URL:https://www.ceam.org.uy
X-WR-CALDESC:Eventos para CEAM
BEGIN:VEVENT
DTSTART;TZID=UTC-3:20190906T090000
DTEND;TZID=UTC-3:20190906T110000
DTSTAMP:20260424T170747
CREATED:20190923T124713Z
LAST-MODIFIED:20190923T124713Z
UID:3609-1567760400-1567767600@www.ceam.org.uy
SUMMARY:09.00 h :: Reunión del CICU
DESCRIPTION:09.00 h \nReunión de Directiva del CICU (Consejo de Iglesias Cristianas del Uruguay) \nCompartirHaz clic para compartir en Facebook (Se abre en una ventana nueva)Haz clic para compartir en WhatsApp (Se abre en una ventana nueva)\n\n	\n
URL:https://www.ceam.org.uy/evento/09-00-h-reunion-del-cicu/
CATEGORIES:Otros
END:VEVENT
END:VCALENDAR